Workbook
Name 管轄局: [1]Sheet1!$B$3:$B$11
Name 政策目的: [1]Sheet1!$G$3:$G$5

Sheet 付加価値額計画（個人）
A1: 付加価値額の拡大計画（個人事業者用）
A3: 整備内容 | J3: 対象作物名
G5: 現状 | H5: 現状 | I5: １年度目 | J5: ２年度目 | K5: 目標年度 | L5: 拡大率 | M5: 備 考 （増減理由を記入）
G6: 1 | H6: 8 | I6: 9 | J6: 10 | K6: 11 | L6: （％）
G7: （A） | H7: （A） | I7: （B） | J7: （C） | K7: （D） | L7: （D-A)/（A）*100
A8: =+IF(H48=0,"①付加価値額（円）","①付加価値額（円/人）") -> ①付加価値額（円） | F8: ②－③＋④ | G8: =IF(G48=0,+G10-G18+G46,+(G10-G18+G46)/G48) -> 5691814 | H8: =IF(H48=0,+H10-H18+H46,+(H10-H18+H46)/H48) -> 0 | I8: =IF(I48=0,+I10-I18+I46,+(I10-I18+I46)/I48) -> 0 | J8: =IF(J48=0,+J10-J18+J46,+(J10-J18+J46)/J48) -> 0 | K8: =IF(K48=0,+K10-K18+K46,+(K10-K18+K46)/K48) -> 0 | L8: =IF(H8=0,"-",IF(H6=28,+(K8-H8)/H8*100*3/4,+(K8-H8)/H8*100)) -> - | M8: =(J8-G8)/G8*100 -> -100
A10: ② | B10: 収入総額（円） （4－5＋6) | G10: =G14-G15+G16 -> 11812464 | H10: =H14-H15+H16 -> 0 | I10: =I14-I15+I16 -> 0 | J10: =J14-J15+J16 -> 0 | K10: =K14-K15+K16 -> 0 | L10: =IF(H10=0,"-",+(K10-H10)/H10*100) -> -
B11: 農産物販売金額合計 | F11: 1 | G11: 9647851 | I11: =販売計画!H25-I12 -> 0 | J11: =販売計画!J25-J12 -> 0 | K11: =販売計画!L25-K12 -> 0 | L11: =IF(H11=0,"-",+(K11-H11)/H11*100) -> - | M11: 販売計画より
B12: 家事消費・事業消費金額 | F12: 2 | G12: 503000 | L12: =IF(H12=0,"-",+(K12-H12)/H12*100) -> -
B13: 雑 収 入 | F13: 3 | G13: 1661613 | H13: =雑収入明細!H14 -> 0 | I13: =雑収入明細!I14 -> 0 | J13: =雑収入明細!J14 -> 0 | K13: =雑収入明細!K14 -> 0 | L13: =IF(H13=0,"-",+(K13-H13)/H13*100) -> - | M13: 雑収入明細より
B14: 小計（1＋2＋3） | F14: 4 | G14: =SUM(G11:G13) -> 11812464 | H14: =SUM(H11:H13) -> 0 | I14: =SUM(I11:I13) -> 0 | J14: =SUM(J11:J13) -> 0 | K14: =SUM(K11:K13) -> 0 | L14: =IF(H14=0,"-",+(K14-H14)/H14*100) -> - | N14: ※必要に応じて項目を追加・修正して下さい
B15: 農産物の棚卸高 | E15: 期首 | F15: 5 | L15: =IF(H15=0,"-",+(K15-H15)/H15*100) -> -
E16: 期末 | F16: 6 | L16: =IF(H16=0,"-",+(K16-H16)/H16*100) -> -
A18: ③ | B18: 費用総額（円） （30＋31－32） | G18: =G42+G43-G44 -> 6120650 | H18: =H42+H43-H44 -> 0 | I18: =I42+I43-I44 -> 0 | J18: =J42+J43-J44 -> 0 | K18: =K42+K43-K44 -> 0 | L18: =IF(H18=0,"-",+(K18-H18)/H18*100) -> -
B19: 租税公課 | F19: 7 | G19: 140800 | L19: =IF(H19=0,"-",+(K19-H19)/H19*100) -> - | N19: ※必要に応じて項目を追加・修正して下さい
B20: 種苗費 | F20: 8 | G20: 305975 | L20: =IF(H20=0,"-",+(K20-H20)/H20*100) -> -
B21: 素畜費 | F21: 9 | L21: =IF(H21=0,"-",+(K21-H21)/H21*100) -> -
B22: 肥料費 | F22: 10 | G22: 1033443 | L22: =IF(H22=0,"-",+(K22-H22)/H22*100) -> -
B23: 飼料費 | F23: 11 | L23: =IF(H23=0,"-",+(K23-H23)/H23*100) -> -
B24: 農具費 | F24: 12 | L24: =IF(H24=0,"-",+(K24-H24)/H24*100) -> -
B25: 農薬・衛生費 | F25: 13 | G25: 160440 | L25: =IF(H25=0,"-",+(K25-H25)/H25*100) -> -
B26: 諸材料費 | F26: 14 | G26: 88128 | L26: =IF(H26=0,"-",+(K26-H26)/H26*100) -> -
B27: 修繕費 | F27: 15 | G27: 225842 | L27: =IF(H27=0,"-",+(K27-H27)/H27*100) -> -
B28: 動力光熱費 | F28: 16 | G28: 79967 | L28: =IF(H28=0,"-",+(K28-H28)/H28*100) -> -
B29: 作業用衣料費 | F29: 17 | G29: 33881 | L29: =IF(H29=0,"-",+(K29-H29)/H29*100) -> -
B30: 農業共済掛金 | F30: 18 | G30: 9439 | L30: =IF(H30=0,"-",+(K30-H30)/H30*100) -> -
B31: 減価償却費 | F31: 19 | G31: 32032 | L31: =IF(H31=0,"-",+(K31-H31)/H31*100) -> - | N31: ※減価償却費は自己資金による投資計画を含めて算定する
B32: 荷造運搬手数料 | F32: 20 | G32: 1708618 | L32: =IF(H32=0,"-",+(K32-H32)/H32*100) -> - | N32: 野菜段ボールなど
B33: 雇人費（④） | F33: 21 | L33: =IF(H33=0,"-",+(K33-H33)/H33*100) -> -
B34: 利子割引料 | F34: 22 | G34: 43263 | L34: =IF(H34=0,"-",+(K34-H34)/H34*100) -> -
B35: 地代・賃借料 | F35: 23 | G35: 1236765 | L35: =IF(H35=0,"-",+(K35-H35)/H35*100) -> - | N35: 水稲利用料など
B36: 土地改良費 | F36: 24 | G36: 160260 | L36: =IF(H36=0,"-",+(K36-H36)/H36*100) -> -
B37: 車両関係費 | F37: 25 | G37: 624773 | L37: =IF(H37=0,"-",+(K37-H37)/H37*100) -> -
B38: 消耗品費 | F38: 26 | G38: 67314 | L38: =IF(H38=0,"-",+(K38-H38)/H38*100) -> -
B39: 図書研修費 | F39: 27 | L39: =IF(H39=0,"-",+(K39-H39)/H39*100) -> -
B40: 固定資産圧縮損 | F40: 28 | L40: =IF(H40=0,"-",+(K40-H40)/H40*100) -> -
B41: 雑費 | F41: 29 | G41: =107723+146940+2167 -> 256830 | L41: =IF(H41=0,"-",+(K41-H41)/H41*100) -> -
B42: 小 計 | F42: 30 | G42: =SUM(G19:G41) -> 6207770 | H42: =SUM(H19:H41) -> 0 | I42: =SUM(I19:I41) -> 0 | J42: =SUM(J19:J41) -> 0 | K42: =SUM(K19:K41) -> 0 | L42: =IF(H42=0,"-",+(K42-H42)/H42*100) -> -
B43: 農産物以外 の棚卸残高 （仕掛品） | E43: 期首 | F43: 31 | G43: 28800 | I43: =H44 -> 0 | J43: =I44 -> 0 | K43: =J44 -> 0 | L43: =IF(H43=0,"-",+(K43-H43)/H43*100) -> -
E44: 期末 | F44: 32 | G44: 115920 | L44: =IF(H44=0,"-",+(K44-H44)/H44*100) -> -
...

Sheet 販売計画
A1: 「○○○○」の農業経営の現状と今後の販売計画
B4: 区 分 | D4: 現状 | F4: 現状 | H4: 1年度目 | J4: 2年度目 | L4: 3年度目 | N4: 根拠
B5: 生産規模 | C5: ① | E5: ａ | G5: ａ | I5: ａ | K5: ａ | M5: ａ
B6: 単収 | C6: ② | E6: kg/10a | G6: kg/10a | I6: kg/10a | K6: kg/10a | M6: kg/10a
B7: 生産量 | C7: ①×②=③ | D7: =D5*D6/10 -> 0 | E7: kg | F7: =F5*F6/10 -> 0 | G7: kg | H7: =H5*H6/10 -> 0 | I7: kg | J7: =J5*J6/10 -> 0 | K7: kg | L7: =L5*L6/10 -> 0 | M7: kg
B8: 販売単価 | C8: ④ | D8: =D9/D7 -> #DIV/0! | E8: 円/kg | F8: =F9/F7 -> #DIV/0! | G8: 円/kg | I8: 円/kg | K8: 円/kg | M8: 円/kg
B9: 販売額 | C9: ③×④ | E9: 円 | G9: 円 | H9: =H7*H8 -> 0 | I9: 円 | J9: =J7*J8 -> 0 | K9: 円 | L9: =L7*L8 -> 0 | M9: 円
B10: 生産規模 | C10: ① | E10: ａ | G10: ａ | I10: ａ | K10: ａ | M10: ａ | O10: ※必要に応じて項目を追加・修正して下さい
B11: 単収 | C11: ② | E11: kg/10a | G11: kg/10a | I11: kg/10a | K11: kg/10a | M11: kg/10a
B12: 生産量 | C12: ①×②=③ | D12: =D10*D11/10 -> 0 | E12: kg | F12: =F10*F11/10 -> 0 | G12: kg | H12: =H10*H11/10 -> 0 | I12: kg | J12: =J10*J11/10 -> 0 | K12: kg | L12: =L10*L11/10 -> 0 | M12: kg
B13: 販売単価 | C13: ④ | D13: =D14/D12 -> #DIV/0! | E13: 円/kg | F13: =F14/F12 -> #DIV/0! | G13: 円/kg | I13: 円/kg | K13: 円/kg | M13: 円/kg
B14: 販売額 | C14: ③×④ | E14: 円 | G14: 円 | H14: =H12*H13 -> 0 | I14: 円 | J14: =J12*J13 -> 0 | K14: 円 | L14: =L12*L13 -> 0 | M14: 円
B15: 生産規模 | C15: ① | E15: ａ | G15: ａ | I15: ａ | K15: ａ | M15: ａ
B16: 単収 | C16: ② | E16: kg/10a | G16: kg/10a | I16: kg/10a | K16: kg/10a | M16: kg/10a
B17: 生産量 | C17: ①×②=③ | D17: =D15*D16/10 -> 0 | E17: kg | F17: =F15*F16/10 -> 0 | G17: kg | H17: =H15*H16/10 -> 0 | I17: kg | J17: =J15*J16/10 -> 0 | K17: kg | L17: =L15*L16/10 -> 0 | M17: kg
B18: 販売単価 | C18: ④ | D18: =D19/D17 -> #DIV/0! | E18: 円/kg | F18: =F19/F17 -> #DIV/0! | G18: 円/kg | I18: 円/kg | K18: 円/kg | M18: 円/kg
B19: 販売額 | C19: ③×④ | E19: 円 | G19: 円 | H19: =H17*H18 -> 0 | I19: 円 | J19: =J17*J18 -> 0 | K19: 円 | L19: =L17*L18 -> 0 | M19: 円
B20: 生産規模 | C20: ① | E20: ａ | G20: ａ | I20: ａ | K20: ａ | M20: ａ
B21: 単収 | C21: ② | E21: kg/10a | G21: kg/10a | I21: kg/10a | K21: kg/10a | M21: kg/10a
B22: 生産量 | C22: ①×②=③ | D22: =D20*D21/10 -> 0 | E22: kg | F22: =F20*F21/10 -> 0 | G22: kg | H22: =H20*H21/10 -> 0 | I22: kg | J22: =J20*J21/10 -> 0 | K22: kg | L22: =L20*L21/10 -> 0 | M22: kg
B23: 販売単価 | C23: ④ | D23: =D24/D22 -> #DIV/0! | E23: 円/kg | F23: =F24/F22 -> #DIV/0! | G23: 円/kg | I23: 円/kg | K23: 円/kg | M23: 円/kg
B24: 販売額 | C24: ③×④ | E24: 円 | G24: 円 | H24: =H22*H23 -> 0 | I24: 円 | J24: =J22*J23 -> 0 | K24: 円 | L24: =L22*L23 -> 0 | M24: 円
A25: 販売金額 計 | C25: ⑤ | D25: =D9+D14+D19+D24 -> 0 | E25: 円 | F25: =F9+F14+F19+F24 -> 0 | G25: 円 | H25: =H9+H14+H19+H24 -> 0 | I25: 円 | J25: =J9+J14+J19+J24 -> 0 | K25: 円 | L25: =L9+L14+L19+L24 -> 0 | M25: 円
A26: 拡大率 | D26: － | E26: ％ | F26: － | G26: ％ | H26: =IF(H25=0,,+(H25-$F25)/$F25*100) -> 0 | I26: ％ | J26: =IF(J25=0,,+(J25-$F25)/$F25*100) -> 0 | K26: ％ | L26: =IF(L25=0,,+(L25-$F25)/$F25*100) -> 0 | M26: ％
A27: 家事消費・事業消費金額 | C27: ⑥ | E27: 円 | F27: ='付加価値額計画（個人）'!H12 -> 0 | G27: 円 | H27: =F27 -> 0 | I27: 円 | J27: =F27 -> 0 | K27: 円 | L27: =F27 -> 0 | M27: 円
A28: 農産物販売金額合計 | C28: ⑤-⑥ | F28: =F25-F27 -> 0 | G28: 円 | H28: =H25-H27 -> 0 | I28: 円 | J28: =J25-J27 -> 0 | K28: 円 | L28: =L25-L27 -> 0 | M28: 円
A30: 【農産物加工品製造・販売の部】
A31: 製品名 | B31: 区 分 | D31: =+D4 -> 現状 | F31: =+F4 -> 現状 | H31: =+H4 -> 1年度目 | J31: =+J4 -> 2年度目 | L31: =+L4 -> 3年度目 | N31: =+N4 -> 根拠
B32: 製造量 | C32: ① | E32: kg | G32: kg | I32: kg | K32: kg | M32: kg
B33: 販売単価 | C33: ② | E33: 円/kg | G33: 円/kg | I33: 円/kg | K33: 円/kg | M33: 円/kg
B34: 販売額 | C34: ①×② | D34: =+D32*D33 -> 0 | E34: 円 | F34: =+F32*F33 -> 0 | G34: 円 | H34: =+H32*H33 -> 0 | I34: 円 | J34: =+J32*J33 -> 0 | K34: 円 | L34: =+L32*L33 -> 0 | M34: 円
B35: 製造量 | C35: ① | E35: kg | G35: kg | I35: kg | K35: kg | M35: kg
B36: 販売単価 | C36: ② | E36: 円/kg | G36: 円/kg | I36: 円/kg | K36: 円/kg | M36: 円/kg
B37: 販売額 | C37: ①×② | D37: =+D35*D36 -> 0 | E37: 円 | F37: =+F35*F36 -> 0 | G37: 円 | H37: =+H35*H36 -> 0 | I37: 円 | J37: =+J35*J36 -> 0 | K37: 円 | L37: =+L35*L36 -> 0 | M37: 円
B38: 製造量 | C38: ① | E38: kg | G38: kg | I38: kg | K38: kg | M38: kg
B39: 販売単価 | C39: ② | E39: 円/kg | G39: 円/kg | I39: 円/kg | K39: 円/kg | M39: 円/kg
B40: 販売額 | C40: ①×② | D40: =+D38*D39 -> 0 | E40: 円 | F40: =+F38*F39 -> 0 | G40: 円 | H40: =+H38*H39 -> 0 | I40: 円 | J40: =+J38*J39 -> 0 | K40: 円 | L40: =+L38*L39 -> 0 | M40: 円
A41: 販売金額 計 | C41: ⑥ | D41: =+D34+D37+D40 -> 0 | E41: 円 | F41: =+F34+F37+F40 -> 0 | G41: 円 | H41: =+H34+H37+H40 -> 0 | I41: 円 | J41: =+J34+J37+J40 -> 0 | K41: 円 | L41: =+L34+L37+L40 -> 0 | M41: 円
A42: 拡大率 | D42: － | E42: ％ | F42: － | G42: ％ | H42: =IF(H41=0,,+(H41-$F41)/$F41*100) -> 0 | I42: ％ | J42: =IF(J41=0,,+(J41-$F41)/$F41*100) -> 0 | K42: ％ | L42: =IF(L41=0,,+(L41-$F41)/$F41*100) -> 0 | M42: ％
A44: 【販売金額 総計】
...

Sheet 雑収入明細
A1: 雑収入明細
G3: 現状 | H3: 現状 | I3: １年度目 | J3: ２年度目 | K3: 目標年度 | L3: 拡大率 | M3: 備 考 （増減理由を記入）
G4: 8 | H4: 8 | I4: 9 | J4: 10 | K4: 11 | L4: （％）
G5: （A） | H5: （A） | I5: （B） | J5: （C） | K5: （D） | L5: （D-A)/（A）*100
A6: 雑 収 入 | F6: ①＋②＋③＋④ | G6: =SUM(G7:G10) -> 0 | H6: =SUM(H7:H10) -> 0 | I6: =SUM(I7:I10) -> 0 | J6: =SUM(J7:J10) -> 0 | K6: =SUM(K7:K10) -> 0 | N6: ※必要に応じて項目を追加・修正して下さい
B7: 経営安定対策交付金 | F7: ①
B8: 水田活用の直接支払交付金 | F8: ②
B9: 持続化給付金 | F9: ③
B10: 市交付金 その他 | F10: ④
B11: 安定事業交付金等 | F11: ⑤
C12: ○○税還付金 | F12: ⑥
C13: 入院保険金 | F13: ⑦
A14: うち付加価値額に算入する雑収入 | F14: ①＋② | G14: =SUM(G7:G13) -> 0 | H14: =SUM(H7:H13) -> 0 | I14: =SUM(I7:I13) -> 0 | J14: =SUM(J7:J13) -> 0 | K14: =SUM(K7:K13) -> 0
A17: 農業所得（円） | E17: ②－③ | H17: =+#REF!-#REF! -> #REF! | I17: =+#REF!-#REF! -> #REF! | J17: =+#REF!-#REF! -> #REF! | K17: =+#REF!-#REF! -> #REF! | L17: =IF(H17=0,"-",+(K17-H17)/H17*100) -> #REF!
A18: ※１ 農業に関係する補助金等の収入を記入。
A19: ※２ 農業次世代人材投資事業（経営開始型）は算入しない。
A20: ※３ 給与などの農外収入は、算入しない。
